BEGIN:VCALENDAR
VERSION:2.0
PRODID:SchoolNow
CALSCALE:GREGORIAN
BEGIN:VEVENT
UID:063dcc88-89a0-11f0-9455-02cd4c239dab
DTSTAMP:20260423T215114Z
SUMMARY:F DAY
URL;VALUE=URI:https://www.rak12.org/calendar/8580133/f-day
DTSTART;VALUE=DATE:20260416
DTEND;VALUE=DATE:20260417
END:VEVENT
END:VCALENDAR
