BEGIN:VCALENDAR
VERSION:2.0
PRODID:SchoolNow
CALSCALE:GREGORIAN
BEGIN:VEVENT
UID:063dcd78-89a0-11f0-b2cd-02cd4c239dab
DTSTAMP:20260423T215115Z
SUMMARY:A DAY
URL;VALUE=URI:https://www.rak12.org/calendar/8580134/a-day
DTSTART;VALUE=DATE:20260417
DTEND;VALUE=DATE:20260418
END:VEVENT
END:VCALENDAR
