BEGIN:VCALENDAR
VERSION:2.0
PRODID:SchoolNow
CALSCALE:GREGORIAN
BEGIN:VEVENT
UID:063dcf4e-89a0-11f0-b598-02cd4c239dab
DTSTAMP:20260423T215114Z
SUMMARY:C DAY
URL;VALUE=URI:https://www.rak12.org/calendar/8580136/c-day
DTSTART;VALUE=DATE:20260421
DTEND;VALUE=DATE:20260422
END:VEVENT
END:VCALENDAR
