BEGIN:VCALENDAR
VERSION:2.0
PRODID:SchoolNow
CALSCALE:GREGORIAN
BEGIN:VEVENT
UID:063dd02a-89a0-11f0-82f7-02cd4c239dab
DTSTAMP:20260423T215114Z
SUMMARY:D DAY
URL;VALUE=URI:https://www.rak12.org/calendar/8580137/d-day
DTSTART;VALUE=DATE:20260422
DTEND;VALUE=DATE:20260423
END:VEVENT
END:VCALENDAR
