BEGIN:VCALENDAR
VERSION:2.0
PRODID:SchoolNow
CALSCALE:GREGORIAN
BEGIN:VEVENT
UID:063dd106-89a0-11f0-8a1d-02cd4c239dab
DTSTAMP:20260423T215114Z
SUMMARY:E DAY
URL;VALUE=URI:https://www.rak12.org/calendar/8580138/e-day
DTSTART;VALUE=DATE:20260423
DTEND;VALUE=DATE:20260424
END:VEVENT
END:VCALENDAR
