BEGIN:VCALENDAR
VERSION:2.0
PRODID:SchoolNow
CALSCALE:GREGORIAN
BEGIN:VEVENT
UID:063dd1ec-89a0-11f0-bf69-02cd4c239dab
DTSTAMP:20260423T215114Z
SUMMARY:F DAY
URL;VALUE=URI:https://www.rak12.org/calendar/8580139/f-day
DTSTART;VALUE=DATE:20260424
DTEND;VALUE=DATE:20260425
END:VEVENT
END:VCALENDAR
