BEGIN:VCALENDAR
VERSION:2.0
PRODID:SchoolNow
CALSCALE:GREGORIAN
BEGIN:VEVENT
UID:063dd2c8-89a0-11f0-ba02-02cd4c239dab
DTSTAMP:20260423T215114Z
SUMMARY:A DAY
URL;VALUE=URI:https://www.rak12.org/calendar/8580140/a-day
DTSTART;VALUE=DATE:20260427
DTEND;VALUE=DATE:20260428
END:VEVENT
END:VCALENDAR
