BEGIN:VCALENDAR
VERSION:2.0
PRODID:SchoolNow
CALSCALE:GREGORIAN
BEGIN:VEVENT
UID:063dd480-89a0-11f0-927f-02cd4c239dab
DTSTAMP:20260423T215114Z
SUMMARY:C DAY
URL;VALUE=URI:https://www.rak12.org/calendar/8580142/c-day
DTSTART;VALUE=DATE:20260429
DTEND;VALUE=DATE:20260430
END:VEVENT
END:VCALENDAR
