BEGIN:VCALENDAR
VERSION:2.0
PRODID:SchoolNow
CALSCALE:GREGORIAN
BEGIN:VEVENT
UID:063ddb56-89a0-11f0-a45a-02cd4c239dab
DTSTAMP:20260423T215114Z
SUMMARY:E DAY
URL;VALUE=URI:https://www.rak12.org/calendar/8580150/e-day
DTSTART;VALUE=DATE:20260513
DTEND;VALUE=DATE:20260514
END:VEVENT
END:VCALENDAR
