BEGIN:VCALENDAR
VERSION:2.0
PRODID:SchoolNow
CALSCALE:GREGORIAN
BEGIN:VEVENT
UID:063ddc32-89a0-11f0-a22d-02cd4c239dab
DTSTAMP:20260423T215114Z
SUMMARY:F DAY
URL;VALUE=URI:https://www.rak12.org/calendar/8580151/f-day
DTSTART;VALUE=DATE:20260514
DTEND;VALUE=DATE:20260515
END:VEVENT
END:VCALENDAR
