BEGIN:VCALENDAR
VERSION:2.0
PRODID:SchoolNow
CALSCALE:GREGORIAN
BEGIN:VEVENT
UID:063ddde0-89a0-11f0-bfb0-02cd4c239dab
DTSTAMP:20260423T215114Z
SUMMARY:B DAY
URL;VALUE=URI:https://www.rak12.org/calendar/8580153/b-day
DTSTART;VALUE=DATE:20260518
DTEND;VALUE=DATE:20260519
END:VEVENT
END:VCALENDAR
