BEGIN:VCALENDAR
VERSION:2.0
PRODID:SchoolNow
CALSCALE:GREGORIAN
BEGIN:VEVENT
UID:063ddebc-89a0-11f0-9b71-02cd4c239dab
DTSTAMP:20260423T215114Z
SUMMARY:C DAY
URL;VALUE=URI:https://www.rak12.org/calendar/8580154/c-day
DTSTART;VALUE=DATE:20260519
DTEND;VALUE=DATE:20260520
END:VEVENT
END:VCALENDAR
