BEGIN:VCALENDAR
VERSION:2.0
PRODID:SchoolNow
CALSCALE:GREGORIAN
BEGIN:VEVENT
UID:063de13c-89a0-11f0-abd9-02cd4c239dab
DTSTAMP:20260423T215114Z
SUMMARY:F DAY
URL;VALUE=URI:https://www.rak12.org/calendar/8580157/f-day
DTSTART;VALUE=DATE:20260522
DTEND;VALUE=DATE:20260523
END:VEVENT
END:VCALENDAR
