BEGIN:VCALENDAR
VERSION:2.0
PRODID:SchoolNow
CALSCALE:GREGORIAN
BEGIN:VEVENT
UID:063de2f4-89a0-11f0-ad7b-02cd4c239dab
DTSTAMP:20260423T215114Z
SUMMARY:B DAY
URL;VALUE=URI:https://www.rak12.org/calendar/8580159/b-day
DTSTART;VALUE=DATE:20260527
DTEND;VALUE=DATE:20260528
END:VEVENT
END:VCALENDAR
