BEGIN:VCALENDAR
VERSION:2.0
PRODID:SchoolNow
CALSCALE:GREGORIAN
BEGIN:VEVENT
UID:06982d0e-89a0-11f0-b431-02cd4c239dab
DTSTAMP:20260423T215114Z
SUMMARY:Spring Choir Assembly
LOCATION:US Gym/ Stage
URL;VALUE=URI:https://www.rak12.org/calendar/8580176/spring-choir-assembly
DTSTART:20260423T180000Z
DTEND:20260423T190000Z
END:VEVENT
END:VCALENDAR
