BEGIN:VCALENDAR
VERSION:2.0
PRODID:SchoolNow
CALSCALE:GREGORIAN
BEGIN:VEVENT
UID:06982dfe-89a0-11f0-a5cf-02cd4c239dab
DTSTAMP:20260423T215114Z
SUMMARY:Spring Choir Concert
LOCATION:US Gym / Stage
URL;VALUE=URI:https://www.rak12.org/calendar/8580177/spring-choir-concert
DTSTART:20260423T230000Z
DTEND:20260424T000000Z
END:VEVENT
END:VCALENDAR
