BEGIN:VCALENDAR
VERSION:2.0
PRODID:SchoolNow
CALSCALE:GREGORIAN
BEGIN:VEVENT
UID:06983858-89a0-11f0-85b1-02cd4c239dab
DTSTAMP:20260423T215115Z
SUMMARY:FSO Winter Wonderland Dance
LOCATION:US Gym
URL;VALUE=URI:https://www.rak12.org/calendar/8580188/fso-winter-wonderland-
 dance
DTSTART:20260207T220000Z
DTEND:20260208T010000Z
END:VEVENT
END:VCALENDAR
