BEGIN:VCALENDAR
VERSION:2.0
PRODID:SchoolNow
CALSCALE:GREGORIAN
BEGIN:VEVENT
UID:06983bb4-89a0-11f0-9752-02cd4c239dab
DTSTAMP:20260423T215114Z
SUMMARY:FSO Bingo
LOCATION:Cafeteria
URL;VALUE=URI:https://www.rak12.org/calendar/8580190/fso-bingo
DTSTART:20260320T223000Z
DTEND:20260321T000000Z
END:VEVENT
END:VCALENDAR
