BEGIN:VCALENDAR
VERSION:2.0
PRODID:SchoolNow
CALSCALE:GREGORIAN
BEGIN:VEVENT
UID:06983cd6-89a0-11f0-af66-02cd4c239dab
DTSTAMP:20260423T215114Z
SUMMARY:FSO Ice Cream Social and Shirt Sale
LOCATION:Cafeteria
URL;VALUE=URI:https://www.rak12.org/calendar/8580191/fso-ice-cream-social-a
 nd-shirt-sale
DTSTART:20260429T220000Z
DTEND:20260430T000000Z
END:VEVENT
END:VCALENDAR
