BEGIN:VCALENDAR
VERSION:2.0
PRODID:SchoolNow
CALSCALE:GREGORIAN
BEGIN:VEVENT
UID:06984366-89a0-11f0-b853-02cd4c239dab
DTSTAMP:20260423T215114Z
SUMMARY:5/6 Homebase Meeting
LOCATION:Gym
URL;VALUE=URI:https://www.rak12.org/calendar/8580198/5-6-homebase-meeting
DTSTART:20260205T130000Z
DTEND:20260205T132000Z
END:VEVENT
END:VCALENDAR
