BEGIN:VCALENDAR
VERSION:2.0
PRODID:SchoolNow
CALSCALE:GREGORIAN
BEGIN:VEVENT
UID:06984442-89a0-11f0-b6f0-02cd4c239dab
DTSTAMP:20260423T215114Z
SUMMARY:5/6 Homebase Meeting
LOCATION:Gym
URL;VALUE=URI:https://www.rak12.org/calendar/8580199/5-6-homebase-meeting
DTSTART:20260305T130000Z
DTEND:20260305T132000Z
END:VEVENT
END:VCALENDAR
