BEGIN:VCALENDAR
VERSION:2.0
PRODID:SchoolNow
CALSCALE:GREGORIAN
BEGIN:VEVENT
UID:06984a8c-89a0-11f0-a939-02cd4c239dab
DTSTAMP:20260423T215115Z
SUMMARY:7/8 Homebase Meeting
LOCATION:Gym
URL;VALUE=URI:https://www.rak12.org/calendar/8580206/7-8-homebase-meeting
DTSTART:20260206T130000Z
DTEND:20260206T132000Z
END:VEVENT
END:VCALENDAR
