BEGIN:VCALENDAR
VERSION:2.0
PRODID:SchoolNow
CALSCALE:GREGORIAN
BEGIN:VEVENT
UID:06984b72-89a0-11f0-83f6-02cd4c239dab
DTSTAMP:20260423T215114Z
SUMMARY:7/8 Homebase Meeting
LOCATION:Gym
URL;VALUE=URI:https://www.rak12.org/calendar/8580207/7-8-homebase-meeting
DTSTART:20260306T130000Z
DTEND:20260306T132000Z
END:VEVENT
END:VCALENDAR
