BEGIN:VCALENDAR
VERSION:2.0
PRODID:SchoolNow
CALSCALE:GREGORIAN
BEGIN:VEVENT
UID:06984c62-89a0-11f0-9b3e-02cd4c239dab
DTSTAMP:20260423T215114Z
SUMMARY:7/8 Homebase Meeting
LOCATION:Gym
URL;VALUE=URI:https://www.rak12.org/calendar/8580208/7-8-homebase-meeting
DTSTART:20260403T120000Z
DTEND:20260403T122000Z
END:VEVENT
END:VCALENDAR
