BEGIN:VCALENDAR
VERSION:2.0
PRODID:SchoolNow
CALSCALE:GREGORIAN
BEGIN:VEVENT
UID:06985662-89a0-11f0-8d9f-02cd4c239dab
DTSTAMP:20260423T215115Z
SUMMARY:Book Fair
LOCATION:Library
URL;VALUE=URI:https://www.rak12.org/calendar/8580219/book-fair
DTSTART;VALUE=DATE:20260421
DTEND;VALUE=DATE:20260422
END:VEVENT
END:VCALENDAR
