BEGIN:VCALENDAR
VERSION:2.0
PRODID:SchoolNow
CALSCALE:GREGORIAN
BEGIN:VEVENT
UID:06985748-89a0-11f0-b50b-02cd4c239dab
DTSTAMP:20260423T215114Z
SUMMARY:Book Fair
LOCATION:Library
URL;VALUE=URI:https://www.rak12.org/calendar/8580220/book-fair
DTSTART;VALUE=DATE:20260422
DTEND;VALUE=DATE:20260423
END:VEVENT
END:VCALENDAR
