BEGIN:VCALENDAR
VERSION:2.0
PRODID:SchoolNow
CALSCALE:GREGORIAN
BEGIN:VEVENT
UID:0698591e-89a0-11f0-941a-02cd4c239dab
DTSTAMP:20260423T215114Z
SUMMARY:Book Fair
LOCATION:Library
URL;VALUE=URI:https://www.rak12.org/calendar/8580222/book-fair
DTSTART;VALUE=DATE:20260424
DTEND;VALUE=DATE:20260425
END:VEVENT
END:VCALENDAR
