BEGIN:VCALENDAR
VERSION:2.0
PRODID:SchoolNow
CALSCALE:GREGORIAN
BEGIN:VEVENT
UID:06985a18-89a0-11f0-94e6-02cd4c239dab
DTSTAMP:20260423T215114Z
SUMMARY:Book Fair
LOCATION:Library
URL;VALUE=URI:https://www.rak12.org/calendar/8580223/book-fair
DTSTART;VALUE=DATE:20260427
DTEND;VALUE=DATE:20260428
END:VEVENT
END:VCALENDAR
