BEGIN:VCALENDAR
VERSION:2.0
PRODID:SchoolNow
CALSCALE:GREGORIAN
BEGIN:VEVENT
UID:06985b12-89a0-11f0-8b73-02cd4c239dab
DTSTAMP:20260423T215115Z
SUMMARY:Book Fair
LOCATION:Library
URL;VALUE=URI:https://www.rak12.org/calendar/8580224/book-fair
DTSTART;VALUE=DATE:20260428
DTEND;VALUE=DATE:20260429
END:VEVENT
END:VCALENDAR
