BEGIN:VCALENDAR
VERSION:2.0
PRODID:SchoolNow
CALSCALE:GREGORIAN
BEGIN:VEVENT
UID:06985eaa-89a0-11f0-b12b-02cd4c239dab
DTSTAMP:20260423T215114Z
SUMMARY:Middle School Madness- Hockey
LOCATION:US Gym
URL;VALUE=URI:https://www.rak12.org/calendar/8580228/middle-school-madness-
 hockey
DTSTART:20260403T143000Z
DTEND:20260403T180000Z
END:VEVENT
END:VCALENDAR
