BEGIN:VCALENDAR
VERSION:2.0
PRODID:SchoolNow
CALSCALE:GREGORIAN
BEGIN:VEVENT
UID:06986184-89a0-11f0-9c7f-02cd4c239dab
DTSTAMP:20260423T215114Z
SUMMARY:HB Middle School Madness
LOCATION:Homebase classrooms
URL;VALUE=URI:https://www.rak12.org/calendar/8580231/hb-middle-school-madne
 ss
DTSTART:20260106T130000Z
DTEND:20260106T133000Z
END:VEVENT
END:VCALENDAR
