BEGIN:VCALENDAR
VERSION:2.0
PRODID:SchoolNow
CALSCALE:GREGORIAN
BEGIN:VEVENT
UID:069863be-89a0-11f0-aac6-02cd4c239dab
DTSTAMP:20260423T215114Z
SUMMARY:HB Middle School Madness
LOCATION:Homebase classrooms
URL;VALUE=URI:https://www.rak12.org/calendar/8580232/hb-middle-school-madne
 ss
DTSTART:20260120T130000Z
DTEND:20260120T133000Z
END:VEVENT
END:VCALENDAR
