BEGIN:VCALENDAR
VERSION:2.0
PRODID:SchoolNow
CALSCALE:GREGORIAN
BEGIN:VEVENT
UID:f51fbb54-89d2-11f0-87fe-0afff7f0e4b9
DTSTAMP:20260423T215114Z
SUMMARY:HB Middle School Madness
LOCATION:Homebase classrooms
URL;VALUE=URI:https://www.rak12.org/calendar/8582050/hb-middle-school-madne
 ss
DTSTART:20260320T120000Z
DTEND:20260320T123000Z
END:VEVENT
END:VCALENDAR
