BEGIN:VCALENDAR
VERSION:2.0
PRODID:SchoolNow
CALSCALE:GREGORIAN
BEGIN:VEVENT
UID:f51fbe74-89d2-11f0-bbab-0afff7f0e4b9
DTSTAMP:20260423T215114Z
SUMMARY:Acadec Competition
LOCATION:Chester County Intermediate Unit\, 455 Boot Rd\, Downingtown\, PA 
 19335\, USA
URL;VALUE=URI:https://www.rak12.org/calendar/8582053/acadec-competition
DTSTART:20260224T140000Z
DTEND:20260224T190000Z
END:VEVENT
END:VCALENDAR
