BEGIN:VCALENDAR
VERSION:2.0
PRODID:SchoolNow
CALSCALE:GREGORIAN
BEGIN:VEVENT
UID:f51fbf6e-89d2-11f0-81d6-0afff7f0e4b9
DTSTAMP:20260423T215115Z
SUMMARY:Acadec Competition
LOCATION:Chester County Intermediate Unit\, 455 Boot Rd\, Downingtown\, PA 
 19335\, USA
URL;VALUE=URI:https://www.rak12.org/calendar/8582054/acadec-competition
DTSTART:20260303T140000Z
DTEND:20260303T190000Z
END:VEVENT
END:VCALENDAR
