BEGIN:VCALENDAR
VERSION:2.0
PRODID:SchoolNow
CALSCALE:GREGORIAN
BEGIN:VEVENT
UID:f51fc414-89d2-11f0-a931-0afff7f0e4b9
DTSTAMP:20260423T215114Z
SUMMARY:Spring Dance Assembly
LOCATION:US Gym
URL;VALUE=URI:https://www.rak12.org/calendar/8582059/spring-dance-assembly
DTSTART:20260327T134500Z
DTEND:20260327T150000Z
END:VEVENT
END:VCALENDAR
