BEGIN:VCALENDAR
VERSION:2.0
PRODID:SchoolNow
CALSCALE:GREGORIAN
BEGIN:VEVENT
UID:f51fc8ec-89d2-11f0-b795-0afff7f0e4b9
DTSTAMP:20260423T215114Z
SUMMARY:Spirit Wear Day
URL;VALUE=URI:https://www.rak12.org/calendar/8582064/spirit-wear-day
DTSTART;VALUE=DATE:20260105
DTEND;VALUE=DATE:20260106
END:VEVENT
END:VCALENDAR
