BEGIN:VCALENDAR
VERSION:2.0
PRODID:SchoolNow
CALSCALE:GREGORIAN
BEGIN:VEVENT
UID:f51fcad6-89d2-11f0-ae37-0afff7f0e4b9
DTSTAMP:20260423T215115Z
SUMMARY:Spirit Wear Day
URL;VALUE=URI:https://www.rak12.org/calendar/8582066/spirit-wear-day
DTSTART;VALUE=DATE:20260302
DTEND;VALUE=DATE:20260303
END:VEVENT
END:VCALENDAR
