BEGIN:VCALENDAR
VERSION:2.0
PRODID:SchoolNow
CALSCALE:GREGORIAN
BEGIN:VEVENT
UID:f51fcbbc-89d2-11f0-a3f5-0afff7f0e4b9
DTSTAMP:20260423T215115Z
SUMMARY:Spirit Wear Day
URL;VALUE=URI:https://www.rak12.org/calendar/8582067/spirit-wear-day
DTSTART;VALUE=DATE:20260401
DTEND;VALUE=DATE:20260402
END:VEVENT
END:VCALENDAR
