BEGIN:VCALENDAR
VERSION:2.0
PRODID:SchoolNow
CALSCALE:GREGORIAN
BEGIN:VEVENT
UID:f51fcf9a-89d2-11f0-bbd3-0afff7f0e4b9
DTSTAMP:20260423T215114Z
SUMMARY:Dollar Dress Down
URL;VALUE=URI:https://www.rak12.org/calendar/8582071/dollar-dress-down
DTSTART;VALUE=DATE:20260428
DTEND;VALUE=DATE:20260429
END:VEVENT
END:VCALENDAR
