BEGIN:VCALENDAR
VERSION:2.0
PRODID:SchoolNow
CALSCALE:GREGORIAN
BEGIN:VEVENT
UID:f51fd08a-89d2-11f0-b992-0afff7f0e4b9
DTSTAMP:20260423T215114Z
SUMMARY:Dollar Dress Down
URL;VALUE=URI:https://www.rak12.org/calendar/8582072/dollar-dress-down
DTSTART;VALUE=DATE:20260324
DTEND;VALUE=DATE:20260325
END:VEVENT
END:VCALENDAR
