BEGIN:VCALENDAR
VERSION:2.0
PRODID:SchoolNow
CALSCALE:GREGORIAN
BEGIN:VEVENT
UID:f51fd2d8-89d2-11f0-9783-0afff7f0e4b9
DTSTAMP:20260423T215114Z
SUMMARY:Dollar Dress Down
URL;VALUE=URI:https://www.rak12.org/calendar/8582074/dollar-dress-down
DTSTART;VALUE=DATE:20260127
DTEND;VALUE=DATE:20260128
END:VEVENT
END:VCALENDAR
