BEGIN:VCALENDAR
VERSION:2.0
PRODID:SchoolNow
CALSCALE:GREGORIAN
BEGIN:VEVENT
UID:f51fd9f4-89d2-11f0-a193-0afff7f0e4b9
DTSTAMP:20260423T215114Z
SUMMARY:House Shirt Day
URL;VALUE=URI:https://www.rak12.org/calendar/8582081/house-shirt-day
DTSTART;VALUE=DATE:20260520
DTEND;VALUE=DATE:20260521
END:VEVENT
END:VCALENDAR
