BEGIN:VCALENDAR
VERSION:2.0
PRODID:SchoolNow
CALSCALE:GREGORIAN
BEGIN:VEVENT
UID:f51fdd00-89d2-11f0-bdf0-0afff7f0e4b9
DTSTAMP:20260423T215114Z
SUMMARY:House Shirt Day
URL;VALUE=URI:https://www.rak12.org/calendar/8582084/house-shirt-day
DTSTART;VALUE=DATE:20260218
DTEND;VALUE=DATE:20260219
END:VEVENT
END:VCALENDAR
