BEGIN:VCALENDAR
VERSION:2.0
PRODID:SchoolNow
CALSCALE:GREGORIAN
BEGIN:VEVENT
UID:b936b81a-8e67-11f0-9744-02324e5c72bb
DTSTAMP:20260423T215115Z
SUMMARY:Cub Scout Meeting
LOCATION:Cafeteria
URL;VALUE=URI:https://www.rak12.org/calendar/8606132/cub-scout-meeting
DTSTART:20260113T230000Z
DTEND:20260114T003000Z
END:VEVENT
END:VCALENDAR
