BEGIN:VCALENDAR
VERSION:2.0
PRODID:SchoolNow
CALSCALE:GREGORIAN
BEGIN:VEVENT
UID:b936bac2-8e67-11f0-8578-02324e5c72bb
DTSTAMP:20260423T215114Z
SUMMARY:Cub Scout Meeting
LOCATION:Cafeteria
URL;VALUE=URI:https://www.rak12.org/calendar/8606135/cub-scout-meeting
DTSTART:20260203T230000Z
DTEND:20260204T003000Z
END:VEVENT
END:VCALENDAR
