BEGIN:VCALENDAR
VERSION:2.0
PRODID:SchoolNow
CALSCALE:GREGORIAN
BEGIN:VEVENT
UID:b936bba8-8e67-11f0-8205-02324e5c72bb
DTSTAMP:20260423T215114Z
SUMMARY:Cub Scout Meeting
LOCATION:Cafeteria
URL;VALUE=URI:https://www.rak12.org/calendar/8606136/cub-scout-meeting
DTSTART:20260210T230000Z
DTEND:20260211T003000Z
END:VEVENT
END:VCALENDAR
