BEGIN:VCALENDAR
VERSION:2.0
PRODID:SchoolNow
CALSCALE:GREGORIAN
BEGIN:VEVENT
UID:b9602e48-8e67-11f0-8704-02324e5c72bb
DTSTAMP:20260423T215114Z
SUMMARY:Cub Scout Meeting
LOCATION:Cafeteria
URL;VALUE=URI:https://www.rak12.org/calendar/8606146/cub-scout-meeting
DTSTART:20260428T220000Z
DTEND:20260428T233000Z
END:VEVENT
END:VCALENDAR
