BEGIN:VCALENDAR
VERSION:2.0
PRODID:SchoolNow
CALSCALE:GREGORIAN
BEGIN:VEVENT
UID:a3adf654-8fff-11f0-8770-0affd39e389b
DTSTAMP:20260423T215114Z
SUMMARY:Kindergarten Valentines Party
LOCATION:Classrooms
URL;VALUE=URI:https://www.rak12.org/calendar/8614843/kindergarten-valentine
 s-party
DTSTART:20260213T191500Z
DTEND:20260213T194500Z
END:VEVENT
END:VCALENDAR
