BEGIN:VCALENDAR
VERSION:2.0
PRODID:SchoolNow
CALSCALE:GREGORIAN
BEGIN:VEVENT
UID:a3adf73a-8fff-11f0-904a-0affd39e389b
DTSTAMP:20260423T215114Z
SUMMARY:1st and 2nd Grade Valentines Party
LOCATION:Classrooms
URL;VALUE=URI:https://www.rak12.org/calendar/8614844/1st-and-2nd-grade-vale
 ntines-party
DTSTART:20260213T194500Z
DTEND:20260213T201500Z
END:VEVENT
END:VCALENDAR
